BEGIN:VCALENDAR
VERSION:2.0
PRODID:-//ESU - ECPv6.15.16//NONSGML v1.0//EN
CALSCALE:GREGORIAN
METHOD:PUBLISH
X-WR-CALNAME:ESU
X-ORIGINAL-URL:https://www.esu.org
X-WR-CALDESC:Events for ESU
REFRESH-INTERVAL;VALUE=DURATION:PT1H
X-Robots-Tag:noindex
X-PUBLISHED-TTL:PT1H
BEGIN:VTIMEZONE
TZID:Europe/London
BEGIN:DAYLIGHT
TZOFFSETFROM:+0000
TZOFFSETTO:+0100
TZNAME:BST
DTSTART:20210328T010000
END:DAYLIGHT
BEGIN:STANDARD
TZOFFSETFROM:+0100
TZOFFSETTO:+0000
TZNAME:GMT
DTSTART:20211031T010000
END:STANDARD
BEGIN:DAYLIGHT
TZOFFSETFROM:+0000
TZOFFSETTO:+0100
TZNAME:BST
DTSTART:20220327T010000
END:DAYLIGHT
BEGIN:STANDARD
TZOFFSETFROM:+0100
TZOFFSETTO:+0000
TZNAME:GMT
DTSTART:20221030T010000
END:STANDARD
BEGIN:DAYLIGHT
TZOFFSETFROM:+0000
TZOFFSETTO:+0100
TZNAME:BST
DTSTART:20230326T010000
END:DAYLIGHT
BEGIN:STANDARD
TZOFFSETFROM:+0100
TZOFFSETTO:+0000
TZNAME:GMT
DTSTART:20231029T010000
END:STANDARD
END:VTIMEZONE
BEGIN:VEVENT
DTSTART;TZID=Europe/London:20220912T183000
DTEND;TZID=Europe/London:20220912T193000
DTSTAMP:20260419T232718
CREATED:20220629T125417Z
LAST-MODIFIED:20220629T160247Z
UID:7006-1663007400-1663011000@www.esu.org
SUMMARY:Sir Malcolm Rifkind In Conversation with Alastair Niven
DESCRIPTION:Join us online on Monday\, 12 September at 6.30pm to join Sir Malcom Rifkind KCMG QC in conversation with Alastair Niven OBE LVO. \nSir Malcolm Rifkind is a former MP and served in the cabinets of Margaret Thatcher and John Major. He has held a variety of high-profile positions within the government\, including Secretary of State for Scotland\, Defence Secretary\, and Foreign Secretary. More recently\, Malcom sat as chair of the Intelligence and Security Committee of Parliament. He continues to be actively involved in international affairs\, and will be providing an expert and experienced insight on current affairs and his views of the world during his conversation with Alastair Niven. \nThis event is free to attend for ESU members (tickets cost £10 for non-members)\, and will be hosted on Zoom. \n  \n 
URL:https://www.esu.org/event/sir-malcolm-rifkind-in-conversation-with-alastair-niven/
LOCATION:Zoom
CATEGORIES:ESU Social
ATTACH;FMTTYPE=image/jpeg:https://www.esu.org/wp-content/uploads/2018/05/Exterior-of-Dartmouth-House-copy-scaled.jpg
END:VEVENT
BEGIN:VEVENT
DTSTART;TZID=Europe/London:20220613T130000
DTEND;TZID=Europe/London:20220613T140000
DTSTAMP:20260419T232718
CREATED:20220609T084508Z
LAST-MODIFIED:20220613T120448Z
UID:6956-1655125200-1655128800@www.esu.org
SUMMARY:Zoom Event: The ESU Friendly International Forum hosted by ESU Poland
DESCRIPTION:The ESU Friendly International Forum is an informal forum aimed at exchanging views\, with an underlying aim of building future collaborations and initiatives. The host of the FIF moves between different ESUs internationally and each forum centres around a topic selected by the hosting nation. \nThe topic of this fourth FIF\, hosted by our Polish colleagues\, will be: ‘What motivates us to promote public speaking in our respective countries?’ \nThe ESU has always been a conduit to share and exchange views\, but within the wider international family of the ESU there is more that can be done! It is our hope that FIF will bring the international members of the ESU closer together and lead us all in exciting directions as we listen and learn from one other. \nDate: Monday\, 13 June 2022\, 1pm BST \nRegister in advance for this meeting: \nhttps://us02web.zoom.us/j/86471211392?pwd=MXNOR3Awa3R2OGZkUG1xTWFpcFluUT09 \nMeeting passcode: AYdPG3 \nPlease see below for a message from Alina\, Chair of ESU Poland: \nDear ESU members\, inspired by the 3rd FIF hosted by Dominga Chamorro representing Chile\, we would like you to take you to a different corner of the world\, Poland – so far away\, yet so close. \nAs is the case with the countries we have not visited\, the associations may be limited to famous people\, events or even stereotypes\, often confused with those of our neighbours. Visiting a country\, however\, often changes the perspective. Poland has always been considered a hospitable place\, but also a community in which two people may have three contradicting opinions\, according to an old joke. We have weaknesses and virtues\, but public speakers we are not. This shortcoming may result from the character of our educational system\, only now gradually shifting the main focus from knowledge to skills\, or may be rooted elsewhere. Yet\, since 1999 we have not missed an International Public Speaking Competition and our young speakers make us proud and happy. \nThe meeting to which we would like to invite you will be hosted by this year’s winner of the National Finals in Poland – Julia Smuczynska and her sister Sara\, who represented Poland at the International Public Speaking Competition in 2011 and is now one of the organizers. The question we would like to ask ourselves and each other is what motivates us to promote public speaking in our respective countries.
URL:https://www.esu.org/event/zoom-event-the-esu-friendly-international-forum-hosted-by-esu-poland/
LOCATION:Zoom
CATEGORIES:ESU Education,ESU Oracy,ESU Social,ESU Young People
ATTACH;FMTTYPE=image/jpeg:https://www.esu.org/wp-content/uploads/2018/12/internationally-1-e1547135985131.jpg
END:VEVENT
END:VCALENDAR