BEGIN:VCALENDAR
VERSION:2.0
PRODID:-//ESU - ECPv6.15.16//NONSGML v1.0//EN
CALSCALE:GREGORIAN
METHOD:PUBLISH
X-ORIGINAL-URL:https://www.esu.org
X-WR-CALDESC:Events for ESU
REFRESH-INTERVAL;VALUE=DURATION:PT1H
X-Robots-Tag:noindex
X-PUBLISHED-TTL:PT1H
BEGIN:VTIMEZONE
TZID:Europe/London
BEGIN:DAYLIGHT
TZOFFSETFROM:+0000
TZOFFSETTO:+0100
TZNAME:BST
DTSTART:20180325T010000
END:DAYLIGHT
BEGIN:STANDARD
TZOFFSETFROM:+0100
TZOFFSETTO:+0000
TZNAME:GMT
DTSTART:20181028T010000
END:STANDARD
BEGIN:DAYLIGHT
TZOFFSETFROM:+0000
TZOFFSETTO:+0100
TZNAME:BST
DTSTART:20190331T010000
END:DAYLIGHT
BEGIN:STANDARD
TZOFFSETFROM:+0100
TZOFFSETTO:+0000
TZNAME:GMT
DTSTART:20191027T010000
END:STANDARD
BEGIN:DAYLIGHT
TZOFFSETFROM:+0000
TZOFFSETTO:+0100
TZNAME:BST
DTSTART:20200329T010000
END:DAYLIGHT
BEGIN:STANDARD
TZOFFSETFROM:+0100
TZOFFSETTO:+0000
TZNAME:GMT
DTSTART:20201025T010000
END:STANDARD
BEGIN:DAYLIGHT
TZOFFSETFROM:+0000
TZOFFSETTO:+0100
TZNAME:BST
DTSTART:20210328T010000
END:DAYLIGHT
BEGIN:STANDARD
TZOFFSETFROM:+0100
TZOFFSETTO:+0000
TZNAME:GMT
DTSTART:20211031T010000
END:STANDARD
BEGIN:DAYLIGHT
TZOFFSETFROM:+0000
TZOFFSETTO:+0100
TZNAME:BST
DTSTART:20220327T010000
END:DAYLIGHT
BEGIN:STANDARD
TZOFFSETFROM:+0100
TZOFFSETTO:+0000
TZNAME:GMT
DTSTART:20221030T010000
END:STANDARD
BEGIN:DAYLIGHT
TZOFFSETFROM:+0000
TZOFFSETTO:+0100
TZNAME:BST
DTSTART:20230326T010000
END:DAYLIGHT
BEGIN:STANDARD
TZOFFSETFROM:+0100
TZOFFSETTO:+0000
TZNAME:GMT
DTSTART:20231029T010000
END:STANDARD
END:VTIMEZONE
BEGIN:VEVENT
DTSTART;TZID=Europe/London:20220321T101500
DTEND;TZID=Europe/London:20220321T140000
DTSTAMP:20260419T182521
CREATED:20220303T113955Z
LAST-MODIFIED:20220317T150355Z
UID:6709-1647857700-1647871200@www.esu.org
SUMMARY:Salisbury and Wiltshire Branch: 'Royal Navy Hovercraft in the Falkland Islands' by Cdr Vernon Phillips RN (Retd)
DESCRIPTION:‘Royal Navy Hovercraft in the Falkland Islands’ by Cdr Vernon Phillips RN (Retd) \nThe Hovercraft was a relatively new invention in 1967 when Commander Vernon Phillips was sent to the Falkland Islands to put the craft through sea trials. He will share his stories of his year on the South Atlantic’s waves\, together with tales of some of the famous names associated with the islands. Vernon got to see a lot of the overseas territory\, exploring the windswept wilderness and seeing wonderful wildlife. He was able to visit every settlement\, acquiring at first hand an insight into how the islanders live in these remote communities. \nCoffee will be served from 10.15am\, with the main talk beginning at 11am sharp\, and lunch from 12.30pm. \nLunch & Talk ticket price: £18 (Members) & £20 (Guests)\nTalk only ticket price: £10 – FREE for first-time visitors \nCheques payable to ‘English-Speaking Union’ should be sent no later than Wednesday\, 16 March to:\nESU Luncheon Secretary\, 3 Stonemasons Yard\, Salisbury SP1 2HX\nesusalisbury-eventssec@esu.org \nDirect transfers can be made to:\nBank: Coutts & Co\, 440 Strand\, London WC2R 0QS\nSort Code: 18-00-02\nAccount Name: English-Speaking Union of the Commonwealth\nAccount No: 01817590\nPlease mark the transfer clearly as “SalisLunch”
URL:https://www.esu.org/event/salisbury-and-wiltshire-branch-royal-navy-hovercraft-in-the-falkland-islands-by-cdr-vernon-phillips-rn-retd/
LOCATION:The White Hart Hotel\, 1 St John's Street\, Salisbury\, SP1 2SD
CATEGORIES:ESU Social
ATTACH;FMTTYPE=image/jpeg:https://www.esu.org/wp-content/uploads/2019/01/esu-branches-salisbury.jpg
ORGANIZER;CN="Salisbury and Wiltshire branch":MAILTO:esusalisbury-eventssec@esu.org
END:VEVENT
BEGIN:VEVENT
DTSTART;TZID=Europe/London:20210920T100000
DTEND;TZID=Europe/London:20210920T140000
DTSTAMP:20260419T182521
CREATED:20210908T134935Z
LAST-MODIFIED:20210908T145620Z
UID:6424-1632132000-1632146400@www.esu.org
SUMMARY:Salisbury branch AGM and ‘Beyond that last Blue Mountain’ talk
DESCRIPTION:The Salisbury branch AGM will be followed by a talk by Oriental carpet specialist Harriet Sandys about her experiences in central Asia. Entitled ‘Beyond that last Blue Mountain’\, it will cover the fascinating story of her time in Afghanistan after the Soviet invasion and what she did to help the refugees there\, her travels with the Peshmerga in the newly-liberated Iraqi Kurdistan in 1991\, and her time spent with a group of unemployed builders and decorators driving convoys of food and aid from Croydon to the Muslim enclaves in Bosnia Herzegovina in 1994. \nThe event will be held at The White Hart Hotel\, 1 St John’s St\, Salisbury SP1 2SD. Coffee will be served from 10am; the AGM will start at 10.45; the talk will follow at 11am; and the lunch at approximately 12.15pm. Lunch & talk: £18 members\, £20 guests; talk only: £10\, but FREE for first-time visitors. For more information or to book a place please contact ESUSalisbury-EventsSec@esu.org or ESUSalisbury-Secretary@esu.org
URL:https://www.esu.org/event/salisbury-branch-agm-and-beyond-that-last-blue-mountain-talk/
LOCATION:The White Hart Hotel\, 1 St John's Street\, Salisbury\, SP1 2SD
CATEGORIES:ESU Social
ATTACH;FMTTYPE=image/jpeg:https://www.esu.org/wp-content/uploads/2019/01/esu-branches-salisbury.jpg
END:VEVENT
BEGIN:VEVENT
DTSTART;TZID=Europe/London:20200422T101500
DTEND;TZID=Europe/London:20200422T160000
DTSTAMP:20260419T182521
CREATED:20200115T145914Z
LAST-MODIFIED:20200115T150009Z
UID:5543-1587550500-1587571200@www.esu.org
SUMMARY:Salisbury Branch: ‘Sir Hubert von Herkomer RA’ Isobel Williams
DESCRIPTION:Isobel is a retired Consultant in Respiratory Medicine.  While qualifying at St George’s Hospital\, University of London\, where Edward Wilson\, Robert Scott’s friend and confidant\, had trained some sixty-five years previously\, she saw many of Wilson’s iconic pictures of Antarctica and became fascinated by the continent and the explorers of the early 1900s. She has written several books about them and speaks regularly on Antarctic subjects and Antarctic heroes. \nEdward Wilson and his wife made their home in Bushey\, Hertfordshire.  When Isobel visited Bushey Museum to learn more about them\, she found the museum was more interested in their celebrity von Herkomer\, who had lived in the town for forty years. \nHerkomer was a Bavarian who became one of the most popular artists in the Victorian period in England. He painted many interesting portraits of the good and the great in England and in Boston U.S.A. He was so much accepted that he was invited to paint Queen Victoria on her death bed\, an unusual honour for a commoner and\, though a nationalized British citizen\, a German. His fall from popularity was dramatic; he died at the onset of the First World War and by the end of that war\, anti-German sentiment was rife in Britain. Also\, by this time\, appreciation of styles of painting had changed greatly with the advent of Modernism that was contrasted unfavourably with his naturalism. His work is gradually being revalued\, however. \nCheques payable to ‘English-Speaking Union’ should be sent at least 7 days in advance to: \nMrs Louise Jeffreys\, Greenrock\, Francis Way\, Salisbury SP2 8EF \nFurther details: esusalisbury-eventssec@esu.org; 01722 336118
URL:https://www.esu.org/event/salisbury-branch-sir-hubert-von-herkomer-ra-isobel-williams/
LOCATION:The White Hart Hotel\, 1 St John's Street\, Salisbury\, SP1 2SD
CATEGORIES:ESU Social
ATTACH;FMTTYPE=image/jpeg:https://www.esu.org/wp-content/uploads/2020/01/2020_04_22-Isobel-Williams.jpg
ORGANIZER;CN="Salisbury and Wiltshire branch":MAILTO:esusalisbury-eventssec@esu.org
END:VEVENT
BEGIN:VEVENT
DTSTART;TZID=Europe/London:20200316T101500
DTEND;TZID=Europe/London:20200316T150000
DTSTAMP:20260419T182521
CREATED:20200115T145102Z
LAST-MODIFIED:20200226T145441Z
UID:5541-1584353700-1584370800@www.esu.org
SUMMARY:Salisbury Branch: ‘The Mary Rose’ Edward Towne MA MSt PGCE
DESCRIPTION:Edward Towne graduated in European Studies from the University of East Anglia and later achieved a PGCE from Cambridge\, an MA in Early Modern English History from the University of London and a MSt in Twentieth Century British History from the University of Oxford. His professional career was spent teaching History in state and independent Secondary Schools. Currently\, Edward lectures to adults in a variety of organisations and acts as a reviewer and tour leader on historical topics. \nThe “Mary Rose”\, the pride of Henry VIII’s fleet\, was launched in 1512 and saw service against the French in the 1520’s.  In 1545\, the Mary Rose put out from Portsmouth Harbour to engage a French invasion fleet but sank with heavy loss of life as Henry VIII and his courtiers watched.  The reason for the sinking is hotly debated:  accurate French cannon fire\, a freak wave\, poor seamanship and overmanning are all suggested. \nAfter several unsuccessful attempts at salvage the remains of the hull were raised in 1982 and are now displayed at Portsmouth Dockyard. \nCheques payable to ‘English-Speaking Union’ should be sent at least 7 days in advance to: \nMrs Louise Jeffreys\, Greenrock\, Francis Way\, Salisbury SP2 8EF \nFurther details: esusalisbury-eventssec@esu.org; 01722 336118
URL:https://www.esu.org/event/salisbury-branch-the-mary-rose-edward-towne-ma-mst-pgce/
LOCATION:The White Hart Hotel\, 1 St John's Street\, Salisbury\, SP1 2SD
CATEGORIES:ESU Social
ATTACH;FMTTYPE=image/jpeg:https://www.esu.org/wp-content/uploads/2020/01/2020_03_16-sinking-of-the-mary-rose.jpg
ORGANIZER;CN="Salisbury and Wiltshire branch":MAILTO:esusalisbury-eventssec@esu.org
END:VEVENT
BEGIN:VEVENT
DTSTART;TZID=Europe/London:20200219T101500
DTEND;TZID=Europe/London:20200219T143000
DTSTAMP:20260419T182521
CREATED:20200115T144410Z
LAST-MODIFIED:20200115T150228Z
UID:5539-1582107300-1582122600@www.esu.org
SUMMARY:Salisbury Branch: ‘Syria: The Making of a Refuge State’ Professor Dawn Chatty\, FBA PhD
DESCRIPTION:Dawn Chatty is an American social anthropologist and academic\, who specialises in the Middle East\, nomadic pastoral tribes\, and refugees. From 2010 to 2015\, she was Emeritus Professor of Anthropology and Forced Migration at the University of Oxford. Her book ‘Syria: The Making and Unmaking of a Refuge State’ was published by Hurst & Co in 2018. \nThe mass influx of peoples into Syria over the last 150 years\, including Circassians\, Ashkenazi and Sephardic Jews\, Armenian\, Albanians\, Kosovars\, created a modern nation of great cultural hybridity. Until recently this was the source of its openness to contemporary waves of forced migrants including Palestinians\, Lebanese\, and Iraqis. Now\, with the tables turned\, nearly 50 per cent of Syrians have sought refuge and sanctuary among its neighbouring states. This lecture examines the history of Syria – Bilad-al-Sham – in the late Ottoman Empire and since World War One as it welcomed refugees and other uprooted peoples from across the region. \nCheques payable to ‘English-Speaking Union’ should be sent at least 7 days in advance to: \nMrs Louise Jeffreys\, Greenrock\, Francis Way\, Salisbury SP2 8EF \nFurther details: esusalisbury-eventssec@esu.org; 01722 336118
URL:https://www.esu.org/event/salisbury-branch-syria-the-making-of-a-refuge-state-professor-dawn-chatty-fba-phd/
LOCATION:The White Hart Hotel\, 1 St John's Street\, Salisbury\, SP1 2SD
CATEGORIES:ESU Social
ATTACH;FMTTYPE=image/jpeg:https://www.esu.org/wp-content/uploads/2020/01/2020_02_19-Dawn-Chatty.jpg
ORGANIZER;CN="Salisbury and Wiltshire branch":MAILTO:esusalisbury-eventssec@esu.org
END:VEVENT
BEGIN:VEVENT
DTSTART;TZID=Europe/London:20191204T101500
DTEND;TZID=Europe/London:20191204T150000
DTSTAMP:20260419T182521
CREATED:20190912T125938Z
LAST-MODIFIED:20190912T130041Z
UID:5329-1575454500-1575471600@www.esu.org
SUMMARY:Salisbury & Wiltshire Branch: A Christmas Lunch with a Raffle to raise funds for the Kings School\, Tamil Nadu\, India
DESCRIPTION:A Christmas Lunch with a Raffle to raise funds for the Kings School\, Tamil Nadu\, India.   \nKings School\, a boarding and day school for boys and girls\, was opened in 2005.  It is an English-medium school built to the highest international standards and our sponsorship of the School\, together with our Gap Year Student grant scheme\, is the Branch’s contribution to the teaching of English overseas.  The Talk today will be – \n“Schools I Have Known” \nMartin Marriott  \nMartin was headmaster of Canford School from 1976 to 1992.  He will talk to us about a lifetime spent in education. \nLunch & Talk £18; Talk only £10 – Talk FREE for first-time visitors.  Advance booking essential.
URL:https://www.esu.org/event/salisbury-wiltshire-branch-a-christmas-lunch-with-a-raffle-to-raise-funds-for-the-kings-school-tamil-nadu-india/
LOCATION:The White Hart Hotel\, 1 St John's Street\, Salisbury\, SP1 2SD
ATTACH;FMTTYPE=image/jpeg:https://www.esu.org/wp-content/uploads/2019/09/xmas-1-e1567440186996.jpg
ORGANIZER;CN="Salisbury and Wiltshire branch":MAILTO:esusalisbury-eventssec@esu.org
END:VEVENT
BEGIN:VEVENT
DTSTART;TZID=Europe/London:20191016T101500
DTEND;TZID=Europe/London:20191016T153000
DTSTAMP:20260419T182521
CREATED:20190912T125423Z
LAST-MODIFIED:20190912T125545Z
UID:5328-1571220900-1571239800@www.esu.org
SUMMARY:Salisbury & Wiltshire Branch: lunch and talk 'Sailing Around the World'
DESCRIPTION:“Sailing Around the World” \nPeter Forbes \nAt the age of 8\, Peter Forbes was taught to sail by his mother in a felucca at the confluence of the Blue and the White Nile in Khartoum. This early happy experience engendered a lifelong love for sailing and for the sea and led to the nurturing of a dream over the intervening years to sail around the world. A meeting with Italian beer baron\, Rudi Peroni\, led to the acquisition of Carango\, his beautiful 54ft yacht and to the training in its management. By 2015 Peter and Vicky\, his wife\, were ready to set sail and to fulfil this dream by embarking upon their great journey. Paying specific attention to the Panama Canal\, the Galapagos and Cape Town\, the talk will cover the interesting experiences and exciting challenges that they faced during this long voyage. \nLunch & Talk £18; Talk only £10 – Talk FREE for first-time visitors.  Advance booking essential.
URL:https://www.esu.org/event/salisbury-wiltshire-branch-sailing-around-the-world/
LOCATION:The White Hart Hotel\, 1 St John's Street\, Salisbury\, SP1 2SD
CATEGORIES:ESU Social
ATTACH;FMTTYPE=image/jpeg:https://www.esu.org/wp-content/uploads/2019/06/sailor.jpg
ORGANIZER;CN="Salisbury and Wiltshire branch":MAILTO:esusalisbury-eventssec@esu.org
END:VEVENT
BEGIN:VEVENT
DTSTART;TZID=Europe/London:20190916T103000
DTEND;TZID=Europe/London:20190916T140000
DTSTAMP:20260419T182521
CREATED:20190912T124046Z
LAST-MODIFIED:20190912T124355Z
UID:5325-1568629800-1568642400@www.esu.org
SUMMARY:Salisbury & Wiltshire Branch: AGM 'An Artist’s View of 19th Century Rural Britain'
DESCRIPTION:The Branch ANNUAL GENERAL MEETING followed by a Talk –  \n“An Artist’s View of 19th Century Rural Britain” \nFelicity Herring \nFelicity Herring has a BA in history and economics and an MA in Fine Art Valuation. She is an experienced Art Society lecturer and also lectures on cruise ships. She is a member of the Nelson Society and the 1805 Club. \nAll her lectures are illustrated with slides of paintings relating to the subject. She has given talks to National Trust groups\, yacht clubs\, British Legion\, Rotary\, public school sixth forms and retirement groups such as U3A and Probus. \nFelicity is a welcome ‘returnee’ to the Salisbury Branch\, having spoken to us before about The Life and Loves of Admiral Lord Nelson. \nLunch & Talk £18; Talk only £10 – Talk FREE for first-time visitors.  Advance booking essential.
URL:https://www.esu.org/event/salisbury-branch-agm-an-artists-view-of-19th-century-rural-britain/
LOCATION:The White Hart Hotel\, 1 St John's Street\, Salisbury\, SP1 2SD
CATEGORIES:ESU Social
ATTACH;FMTTYPE=image/jpeg:https://www.esu.org/wp-content/uploads/2019/01/MEMBERS.jpg
ORGANIZER;CN="Salisbury and Wiltshire branch":MAILTO:esusalisbury-eventssec@esu.org
END:VEVENT
END:VCALENDAR