BEGIN:VCALENDAR
VERSION:2.0
PRODID:-//ESU - ECPv6.15.16//NONSGML v1.0//EN
CALSCALE:GREGORIAN
METHOD:PUBLISH
X-ORIGINAL-URL:https://www.esu.org
X-WR-CALDESC:Events for ESU
REFRESH-INTERVAL;VALUE=DURATION:PT1H
X-Robots-Tag:noindex
X-PUBLISHED-TTL:PT1H
BEGIN:VTIMEZONE
TZID:Europe/London
BEGIN:DAYLIGHT
TZOFFSETFROM:+0000
TZOFFSETTO:+0100
TZNAME:BST
DTSTART:20210328T010000
END:DAYLIGHT
BEGIN:STANDARD
TZOFFSETFROM:+0100
TZOFFSETTO:+0000
TZNAME:GMT
DTSTART:20211031T010000
END:STANDARD
BEGIN:DAYLIGHT
TZOFFSETFROM:+0000
TZOFFSETTO:+0100
TZNAME:BST
DTSTART:20220327T010000
END:DAYLIGHT
BEGIN:STANDARD
TZOFFSETFROM:+0100
TZOFFSETTO:+0000
TZNAME:GMT
DTSTART:20221030T010000
END:STANDARD
BEGIN:DAYLIGHT
TZOFFSETFROM:+0000
TZOFFSETTO:+0100
TZNAME:BST
DTSTART:20230326T010000
END:DAYLIGHT
BEGIN:STANDARD
TZOFFSETFROM:+0100
TZOFFSETTO:+0000
TZNAME:GMT
DTSTART:20231029T010000
END:STANDARD
END:VTIMEZONE
BEGIN:VEVENT
DTSTART;TZID=Europe/London:20220117T130000
DTEND;TZID=Europe/London:20220117T140000
DTSTAMP:20260420T035205
CREATED:20220111T124257Z
LAST-MODIFIED:20220111T124408Z
UID:6578-1642424400-1642428000@www.esu.org
SUMMARY:ZOOM EVENT: ESU FIF: Friendly International Forum on
DESCRIPTION:The Friendly International Forum  is an informal forum aimed at exchanging views\, with an underlying aim of building future collaborations and initiatives. The host of the FIF will move between different ESUs internationally and each forum will be centred around a topic. \nThe first FIF will be hosted by England and Wales and the topic will be: The effect of social media on spoken communication and public speaking. \nWhy?  \nThe ESU has always been a conduit to share and exchange views\, but within the wider international family of the ESU there is more that can be done! It is our hope that FIF will bring the international members of the ESU closer together and lead us all in exciting directions as we listen and learn from one other. \nWhen?  \nDate: Monday 17th January 2022\, 13:00 GMT – Hosted by young members Miles Contreras-Brown and Erin Young\, Secretary of the London Branch and Member of the Young Members Committee respectively. Introduced by James Raven. \nRegister in advance for this meeting: \nhttps://us06web.zoom.us/meeting/register/tZ0pce2tpzIjGtU1LWq1xaczsOx60wuOcrfT
URL:https://www.esu.org/event/esu-fif-friendly-international-forum/
LOCATION:tbc
CATEGORIES:ESU Social,ESU Young People
ATTACH;FMTTYPE=image/jpeg:https://www.esu.org/wp-content/uploads/2019/01/OG_0048.jpg
END:VEVENT
END:VCALENDAR