BEGIN:VCALENDAR
VERSION:2.0
PRODID:-//ESU - ECPv6.15.16//NONSGML v1.0//EN
CALSCALE:GREGORIAN
METHOD:PUBLISH
X-WR-CALNAME:ESU
X-ORIGINAL-URL:https://www.esu.org
X-WR-CALDESC:Events for ESU
REFRESH-INTERVAL;VALUE=DURATION:PT1H
X-Robots-Tag:noindex
X-PUBLISHED-TTL:PT1H
BEGIN:VTIMEZONE
TZID:Europe/London
BEGIN:DAYLIGHT
TZOFFSETFROM:+0000
TZOFFSETTO:+0100
TZNAME:BST
DTSTART:20180325T010000
END:DAYLIGHT
BEGIN:STANDARD
TZOFFSETFROM:+0100
TZOFFSETTO:+0000
TZNAME:GMT
DTSTART:20181028T010000
END:STANDARD
BEGIN:DAYLIGHT
TZOFFSETFROM:+0000
TZOFFSETTO:+0100
TZNAME:BST
DTSTART:20190331T010000
END:DAYLIGHT
BEGIN:STANDARD
TZOFFSETFROM:+0100
TZOFFSETTO:+0000
TZNAME:GMT
DTSTART:20191027T010000
END:STANDARD
BEGIN:DAYLIGHT
TZOFFSETFROM:+0000
TZOFFSETTO:+0100
TZNAME:BST
DTSTART:20200329T010000
END:DAYLIGHT
BEGIN:STANDARD
TZOFFSETFROM:+0100
TZOFFSETTO:+0000
TZNAME:GMT
DTSTART:20201025T010000
END:STANDARD
END:VTIMEZONE
BEGIN:VEVENT
DTSTART;VALUE=DATE:20191124
DTEND;VALUE=DATE:20191125
DTSTAMP:20260421T013058
CREATED:20190903T102430Z
LAST-MODIFIED:20190903T104221Z
UID:5309-1574553600-1574639999@www.esu.org
SUMMARY:Oxfordshire Branch: Thanksgiving Lunch at Weston Manor\, speaker Lord Wasserman
DESCRIPTION:Thanksgiving Lunch at Weston Manor\, speaker Lord Wasserman\, former Rhodes Scholar. \nLord Gordon Wasserman\, born in Montreal\, Canada\, he was educated at McGill University and New College\, Oxford on a Rhodes Scholarship. After a varied and distinguished career in the Home Office\, including 12 years with responsibility for scientific and technological support to UK police forces\, he spent 12 years in the USA advising police chiefs in New York\, Philadelphia and other cities. From May 2010 to April 2012\, he was senior adviser on policing and criminal justice to PM David Cameron and Home Secretary Theresa May.
URL:https://www.esu.org/event/oxfordshire-branch-thanksgiving-lunch-at-weston-manor-speaker-lord-wasserman/
LOCATION:Oxfordshire\, Oxfordshire
CATEGORIES:ESU Social
ATTACH;FMTTYPE=image/jpeg:https://www.esu.org/wp-content/uploads/2019/09/800px-Official_portrait_of_Lord_Wasserman_crop_2.jpg
ORGANIZER;CN="Oxford Branch":MAILTO:jan@paddockcottage.net
END:VEVENT
BEGIN:VEVENT
DTSTART;TZID=Europe/London:20191025T120000
DTEND;TZID=Europe/London:20191025T170000
DTSTAMP:20260421T013058
CREATED:20190903T101915Z
LAST-MODIFIED:20190903T101915Z
UID:5307-1572004800-1572022800@www.esu.org
SUMMARY:Oxfordshire Branch: Afternoon tea & talk by Katherine Harborne\, 'GM Crops and Lady Chatterley'
DESCRIPTION:Talk by Katherine Harborne\, “GM Crops and Lady Chatterley” Priory Room\, Christchurch College. Afternoon tea.
URL:https://www.esu.org/event/oxfordshire-branch-afternoon-tea-talk-by-katherine-harborne-gm-crops-and-lady-chatterley/
LOCATION:Oxfordshire\, Oxfordshire
CATEGORIES:ESU Social
ATTACH;FMTTYPE=image/jpeg:https://www.esu.org/wp-content/uploads/2019/01/DSC8417.jpg
ORGANIZER;CN="Oxford Branch":MAILTO:jan@paddockcottage.net
END:VEVENT
BEGIN:VEVENT
DTSTART;TZID=Europe/London:20190916T135000
DTEND;TZID=Europe/London:20190916T170000
DTSTAMP:20260421T013058
CREATED:20190729T114310Z
LAST-MODIFIED:20190729T114423Z
UID:5181-1568641800-1568653200@www.esu.org
SUMMARY:Oxfordshire Branch: Visit to Broughton Castle
DESCRIPTION:Oxfordshire Branch private tour of Broughton Castle. \nBroughton Castle is a moated and fortified manor house \, the core of the house was built in 1306 and the gatehouse in the early fifteenth century\, but most of what you see today dates from the 1550’s. It was a centre of opposition to Charles I and was besieged and damaged after the Battle of Edgehill in 1642. Broughton Castle is home to the 21st Lord and Lady Saye & Sele\, whose family name is Fiennes. \nThe ownership of the Castle has remained in the same family since 1447. Sir Thomas Wykeham was granted a “license to crenellate” in 1406 and these fortifications – gatehouse\, moat and the battlements of the curtain wall – are the result. Sir Thomas had inherited Broughton Castle from his great uncle William of Wykeham\, the founder of New College\, Oxford and Winchester College who bought Broughton Castle in 1377. Their descendants still live in the Castle. \nEvent information: \nWe will meet in the car park at about 1.50. \nBroughton Castle is 2.5 miles from the centre of Banbury\, 3 miles from Junction 11 of the M40. \nAt Banbury Cross take the B4035 west signposted to Shipston on Stour then\, after about two miles\, turn right in Broughton village at the crossroads by the Saye & Sele Arms pub. At the bottom of the hill turn left into the drive.  The car park is on your left before the Church. \nPlease note that all public toilets are in the main building in the car park – there are none available at the Castle. \nThe Saye & Sele Arms pub in the village serves lunches. \nwww.sayeandselearms.co.uk \n  \n 
URL:https://www.esu.org/event/oxfordshire-branch-visit-to-broughton-castle/
LOCATION:Oxfordshire\, Oxfordshire
CATEGORIES:ESU Social
ATTACH;FMTTYPE=image/jpeg:https://www.esu.org/wp-content/uploads/2019/07/broughton-castke.jpg
ORGANIZER;CN="Oxford Branch":MAILTO:jan@paddockcottage.net
END:VEVENT
END:VCALENDAR