BEGIN:VCALENDAR
VERSION:2.0
PRODID:-//ESU - ECPv6.15.16//NONSGML v1.0//EN
CALSCALE:GREGORIAN
METHOD:PUBLISH
X-ORIGINAL-URL:https://www.esu.org
X-WR-CALDESC:Events for ESU
REFRESH-INTERVAL;VALUE=DURATION:PT1H
X-Robots-Tag:noindex
X-PUBLISHED-TTL:PT1H
BEGIN:VTIMEZONE
TZID:Europe/London
BEGIN:DAYLIGHT
TZOFFSETFROM:+0000
TZOFFSETTO:+0100
TZNAME:BST
DTSTART:20200329T010000
END:DAYLIGHT
BEGIN:STANDARD
TZOFFSETFROM:+0100
TZOFFSETTO:+0000
TZNAME:GMT
DTSTART:20201025T010000
END:STANDARD
BEGIN:DAYLIGHT
TZOFFSETFROM:+0000
TZOFFSETTO:+0100
TZNAME:BST
DTSTART:20210328T010000
END:DAYLIGHT
BEGIN:STANDARD
TZOFFSETFROM:+0100
TZOFFSETTO:+0000
TZNAME:GMT
DTSTART:20211031T010000
END:STANDARD
BEGIN:DAYLIGHT
TZOFFSETFROM:+0000
TZOFFSETTO:+0100
TZNAME:BST
DTSTART:20220327T010000
END:DAYLIGHT
BEGIN:STANDARD
TZOFFSETFROM:+0100
TZOFFSETTO:+0000
TZNAME:GMT
DTSTART:20221030T010000
END:STANDARD
BEGIN:DAYLIGHT
TZOFFSETFROM:+0000
TZOFFSETTO:+0100
TZNAME:BST
DTSTART:20230326T010000
END:DAYLIGHT
BEGIN:STANDARD
TZOFFSETFROM:+0100
TZOFFSETTO:+0000
TZNAME:GMT
DTSTART:20231029T010000
END:STANDARD
END:VTIMEZONE
BEGIN:VEVENT
DTSTART;TZID=Europe/London:20221111T170000
DTEND;TZID=Europe/London:20221111T200000
DTSTAMP:20260419T215303
CREATED:20220628T161703Z
LAST-MODIFIED:20221108T154122Z
UID:7001-1668186000-1668196800@www.esu.org
SUMMARY:Lincoln Branch: Annual Dinner with guest speaker Lord Patten
DESCRIPTION:The Lincoln Committee is delighted to announce that Chris Patten\, Lord Patten of Barnes\, Chancellor of Oxford University will be guest speaker at their Annual Dinner in Lincoln on Friday\, 11 November. His talk is entitled\, ‘Public Service around the World – from Belfast\, Westminster and Brussels on the way to Hong Kong’. \nElected Member of Parliament for Bath in 1979\, he served as Minister for Overseas Development\, Secretary of State for the Environment and Chairman of the Conservative Party. Patten held several senior positions in Conservative governments under Margaret Thatcher and John Major\, and was appointed Governor of Hong Kong\, tasked with overseeing the final years of British administration and prepare for its transfer to China in 1997. \nHe was Chairman for the Independent Commission on Policing after the Good Friday Agreement in 1998 and European Commissioner for External Relations from 1999 until 2004. The Observer has described him as ‘the best Tory Prime Minister we never had’. In 2003 he was appointed Chancellor of the University of Oxford. This should be a great occasion and early response will be advisable to avoid disappointment. Details are being finalised and further information will be issued shortly. \nHe is one of the sixteen Knights of the Thistle and Knight Grand Cross of the Order of St Michael and St George (Chancellor 2011-2021). He was awarded America’s highest civilian honour\, the Presidential Medal of Freedom in 2003. He is an Honorary Fellow of the Royal Society of Edinburgh and Fellow of the Royal College of Defence Studies. \nDress Code: Business suits\nTables of 8\, 10 or Individual Tickets available \n6.30pm Welcome Drinks\n7.15pm Dinner\n8.30pm Talk by Lord Patten of Barnes\, Including Q & A\n9.30pm Dessert\n10.15pm Carriages \nTo purchase tickets for this event\, please download the booking form here and return to: \nHon. Secretary Mrs. Kelly Bevers\, ESU c/o Carlbom Shipping Ltd\, Mariner House\, Trondheim Way\, Stallingborough\, Immingham\, DN41 8FD \nTel: 01469 571 387 \nEmail: kelly.bevers@carlbom.co.uk \n[Image: By Roger Harris – https://members-api.parliament.uk/api/Members/1136/Portrait?cropType=ThreeTwoGallery: https://members.parliament.uk/member/1136/portrait\, CC BY 3.0\, https://commons.wikimedia.org/w/index.php?curid=86634999]
URL:https://www.esu.org/event/lincolnshire-branch-annual-dinner-with-guest-speaker-lord-patten/
LOCATION:Lincoln College\, Monks Rd\, Lincoln\, LN2 5HQ\, United Kingdom
CATEGORIES:ESU Social
ATTACH;FMTTYPE=image/jpeg:https://www.esu.org/wp-content/uploads/2022/06/official_portrait_of_lord_patten_of_barnes_crop.jpg
ORGANIZER;CN="Lincoln branch":MAILTO:camilla.carlbom@carlbom.co.uk
END:VEVENT
BEGIN:VEVENT
DTSTART;VALUE=DATE:20211117
DTEND;VALUE=DATE:20211118
DTSTAMP:20260419T215303
CREATED:20211006T102335Z
LAST-MODIFIED:20211102T142048Z
UID:6452-1637107200-1637193599@www.esu.org
SUMMARY:The ESU Lincolnshire Annual Dinner - Security in a Troubled World
DESCRIPTION:The Lincolnshire branch of the ESU is delighted that the Rt Hon Lord Robertson of Port Ellen KT GCMG will join us as guest speaker at our Annual Dinner on Wednesday\, 17 November 2021 at 6:30 pm at Lincoln College\, LN2 5HQ.  For tickets and payment details\, please email Kelly.Bevers@carlbom.co.uk.  Tickets are £60 (£55 for members). \nSenior Counsellor with The Cohen Group of Washington DC\, USA\, Chairman of Western Ferries (Clyde) Ltd and Vice-Chairman of the Royal Edinburgh Military Tattoo\, and Special Adviser to BP plc\, George Robertson was a Member of the House of Commons for 21 years and served in the Shadow Cabinet as Shadow Secretary of State for Scotland before becoming Secretary of State for Defence in 1997. He served as the 10th Secretary General of NATO and Chairman of the North Atlantic Council from 1999 to 2003. \nHe has been Executive Deputy Chairman of Cable and Wireless plc\, Deputy Chairman of TNK-BP\, BP’s Russian Joint Venture and has served as a Non-Executive Director of the Weir Group plc\, Smiths Group plc and Monaco Telecom SA. \nHe is Chairman of the FIA Foundation\, an Elder Brother of Trinity House\, a Trustee of the Queen Elizabeth Diamond Jubilee Trust\, and a visiting Professor at Stirling University and King’s College London. He serves on the boards of the Centre for European Reform\, the International Institute for Strategic Studies and Chatham House’s Panel of Senior Advisers. For 17 years he was Honorary Colonel of the London Scottish Regiment. \nHe is one of the 16 Knights of the Thistle and Knight Grand Cross of the Order of St Michael and St George (Chancellor 2011-2021).  He was awarded America’s highest civilian honour\, the Presidential Medal of Freedom in 2003. He is an Honorary Fellow of the Royal Society of Edinburgh and Fellow of the Royal College of Defence Studies.
URL:https://www.esu.org/event/the-esu-lincolnshire-annual-dinner/
LOCATION:Lincoln College\, Monks Rd\, Lincoln\, LN2 5HQ\, United Kingdom
CATEGORIES:ESU Social
END:VEVENT
END:VCALENDAR