BEGIN:VCALENDAR
VERSION:2.0
PRODID:-//ESU - ECPv6.15.16//NONSGML v1.0//EN
CALSCALE:GREGORIAN
METHOD:PUBLISH
X-ORIGINAL-URL:https://www.esu.org
X-WR-CALDESC:Events for ESU
REFRESH-INTERVAL;VALUE=DURATION:PT1H
X-Robots-Tag:noindex
X-PUBLISHED-TTL:PT1H
BEGIN:VTIMEZONE
TZID:Europe/London
BEGIN:DAYLIGHT
TZOFFSETFROM:+0000
TZOFFSETTO:+0100
TZNAME:BST
DTSTART:20190331T010000
END:DAYLIGHT
BEGIN:STANDARD
TZOFFSETFROM:+0100
TZOFFSETTO:+0000
TZNAME:GMT
DTSTART:20191027T010000
END:STANDARD
BEGIN:DAYLIGHT
TZOFFSETFROM:+0000
TZOFFSETTO:+0100
TZNAME:BST
DTSTART:20200329T010000
END:DAYLIGHT
BEGIN:STANDARD
TZOFFSETFROM:+0100
TZOFFSETTO:+0000
TZNAME:GMT
DTSTART:20201025T010000
END:STANDARD
BEGIN:DAYLIGHT
TZOFFSETFROM:+0000
TZOFFSETTO:+0100
TZNAME:BST
DTSTART:20210328T010000
END:DAYLIGHT
BEGIN:STANDARD
TZOFFSETFROM:+0100
TZOFFSETTO:+0000
TZNAME:GMT
DTSTART:20211031T010000
END:STANDARD
END:VTIMEZONE
BEGIN:VEVENT
DTSTART;TZID=Europe/London:20200403T140000
DTEND;TZID=Europe/London:20200403T140000
DTSTAMP:20260421T110233
CREATED:20200305T120147Z
LAST-MODIFIED:20200305T154636Z
UID:5745-1585922400-1585922400@www.esu.org
SUMMARY:Oxfordshire Branch: Visit to the Ashmolean Museum
DESCRIPTION:Oxfordshire Branch hosts a visit to Britain’s oldest public museum; Ashmolean Museum\, including a private handling of objects in the Eastern Art Department. There will also be a 45 minute guided tour of the Japanese Gallery. Each group will have a maximum of ten and there will be a cream tea in the restaurant afterwards. \nTo book a place or for any further information about the visit\, please contact Jan at janetstokescarter@hotmail.com
URL:https://www.esu.org/event/oxfordshire-branch-visit-to-the-ashmolean-museum/
LOCATION:Ashmolean Museum\, Beaumont Street\, Oxford\, OX1 2PH\, United Kingdom
CATEGORIES:ESU Social
ATTACH;FMTTYPE=image/jpeg:https://www.esu.org/wp-content/uploads/2020/03/Ashmolean-Museum.jpg
ORGANIZER;CN="Oxford Branch":MAILTO:jan@paddockcottage.net
END:VEVENT
END:VCALENDAR