BEGIN:VCALENDAR
VERSION:2.0
PRODID:-//ESU - ECPv6.15.16//NONSGML v1.0//EN
CALSCALE:GREGORIAN
METHOD:PUBLISH
X-ORIGINAL-URL:https://www.esu.org
X-WR-CALDESC:Events for ESU
REFRESH-INTERVAL;VALUE=DURATION:PT1H
X-Robots-Tag:noindex
X-PUBLISHED-TTL:PT1H
BEGIN:VTIMEZONE
TZID:Europe/London
BEGIN:DAYLIGHT
TZOFFSETFROM:+0000
TZOFFSETTO:+0100
TZNAME:BST
DTSTART:20180325T010000
END:DAYLIGHT
BEGIN:STANDARD
TZOFFSETFROM:+0100
TZOFFSETTO:+0000
TZNAME:GMT
DTSTART:20181028T010000
END:STANDARD
BEGIN:DAYLIGHT
TZOFFSETFROM:+0000
TZOFFSETTO:+0100
TZNAME:BST
DTSTART:20190331T010000
END:DAYLIGHT
BEGIN:STANDARD
TZOFFSETFROM:+0100
TZOFFSETTO:+0000
TZNAME:GMT
DTSTART:20191027T010000
END:STANDARD
BEGIN:DAYLIGHT
TZOFFSETFROM:+0000
TZOFFSETTO:+0100
TZNAME:BST
DTSTART:20200329T010000
END:DAYLIGHT
BEGIN:STANDARD
TZOFFSETFROM:+0100
TZOFFSETTO:+0000
TZNAME:GMT
DTSTART:20201025T010000
END:STANDARD
BEGIN:DAYLIGHT
TZOFFSETFROM:+0000
TZOFFSETTO:+0100
TZNAME:BST
DTSTART:20210328T010000
END:DAYLIGHT
BEGIN:STANDARD
TZOFFSETFROM:+0100
TZOFFSETTO:+0000
TZNAME:GMT
DTSTART:20211031T010000
END:STANDARD
END:VTIMEZONE
BEGIN:VEVENT
DTSTART;TZID=Europe/London:20201015T193000
DTEND;TZID=Europe/London:20201015T210000
DTSTAMP:20260420T094701
CREATED:20200930T154224Z
LAST-MODIFIED:20200930T161446Z
UID:6074-1602790200-1602795600@www.esu.org
SUMMARY:Bristol Branch: Talk on 'The Bristol Suffragettes' by local historian and author Lucienne Boyce.
DESCRIPTION:About the event: \nIn 1907 suffragette Annie Kenney brought the militants’ fight for women’s right to vote to Bristol. For the next few years the city rang with the cry “Votes for Women!”. From colourful demonstrations on the Downs and stone-throwing in the Centre\, to riot on Queen’s Road and arson in the suburbs\, the historian and author Lucienne Boyce tells the fascinating story of Bristol’s suffragette years. \nThe Zoom link will be sent to Bristol branch members during the week beginning 12th October. \nFurther information please contact Nigel Currie nigelcurrie29@gmail.com or 0117 914 0773.
URL:https://www.esu.org/event/bristol-branch-talk-on-the-bristol-suffragettes-by-local-historian-and-author-lucienne-boyce/
LOCATION:Zoom Webinar
CATEGORIES:ESU Social
ATTACH;FMTTYPE=image/jpeg:https://www.esu.org/wp-content/uploads/2019/01/LefflerWomensLib1970.jpg
ORGANIZER;CN="Nigel Currie":MAILTO:nigelcurrie29@gmail.com
END:VEVENT
BEGIN:VEVENT
DTSTART;TZID=Europe/London:20200318T191500
DTEND;TZID=Europe/London:20200318T213000
DTSTAMP:20260420T094701
CREATED:20191114T115833Z
LAST-MODIFIED:20200315T205425Z
UID:5420-1584558900-1584567000@www.esu.org
SUMMARY:Bristol branch: One Man’s England
DESCRIPTION:We regret that this event has been postponed\, for further information please email nigelcurrie29@gmail.com
URL:https://www.esu.org/event/one-mans-england/
LOCATION:The Apostle Room\, Clifton Catholic Cathedral\, Bristol\, Clifton Catholic Cathedral\, Bristol\, BS8 3BX\, United Kingdom
CATEGORIES:ESU Social
ORGANIZER;CN="Nigel Currie":MAILTO:nigelcurrie29@gmail.com
END:VEVENT
BEGIN:VEVENT
DTSTART;TZID=Europe/London:20200212T191500
DTEND;TZID=Europe/London:20200212T213000
DTSTAMP:20260420T094701
CREATED:20191114T115521Z
LAST-MODIFIED:20191114T155419Z
UID:5419-1581534900-1581543000@www.esu.org
SUMMARY:Bristol branch: The past\, present and future of Bristol’s Museum Service
DESCRIPTION:The past\, present and future of Bristol’s Museum Service \nSpeaker Ray Barnett\, Head of Collections and Archives\, Bristol
URL:https://www.esu.org/event/the-past-present-and-future-of-bristols-museum-service/
LOCATION:The Apostle Room\, Clifton Catholic Cathedral\, Bristol\, Clifton Catholic Cathedral\, Bristol\, BS8 3BX\, United Kingdom
CATEGORIES:ESU Social
ORGANIZER;CN="Nigel Currie":MAILTO:nigelcurrie29@gmail.com
END:VEVENT
BEGIN:VEVENT
DTSTART;TZID=Europe/London:20200123T173000
DTEND;TZID=Europe/London:20200123T193000
DTSTAMP:20260420T094701
CREATED:20191114T115245Z
LAST-MODIFIED:20191114T115625Z
UID:5417-1579800600-1579807800@www.esu.org
SUMMARY:ESU-Churchill Public Speaking Competition\, Bristol Final
DESCRIPTION:ESU-Churchill Public Speaking Competition\, Bristol Final
URL:https://www.esu.org/event/esu-churchill-public-speaking-competition-bristol-final/
LOCATION:Redmaids’ High School\, Westbury Road\, Bristol\, BS9 3AW\, United Kingdom
CATEGORIES:ESU Oracy
ORGANIZER;CN="Nigel Currie":MAILTO:nigelcurrie29@gmail.com
END:VEVENT
BEGIN:VEVENT
DTSTART;TZID=Europe/London:20200121T183000
DTEND;TZID=Europe/London:20200121T203000
DTSTAMP:20260420T094701
CREATED:20191114T113927Z
LAST-MODIFIED:20191114T155848Z
UID:5415-1579631400-1579638600@www.esu.org
SUMMARY:Bristol branch: New Year’s Party
DESCRIPTION:New Year’s Party \nJoin us for a glass of wine to celebrate the new year!
URL:https://www.esu.org/event/new-years-party/
LOCATION:9 Carnarvon Road\, 9 Carnarvon Road\, Bristol\, BS6 7DR\, United Kingdom
CATEGORIES:ESU Social
ORGANIZER;CN="Nigel Currie":MAILTO:nigelcurrie29@gmail.com
END:VEVENT
BEGIN:VEVENT
DTSTART;TZID=Europe/London:20200115T191500
DTEND;TZID=Europe/London:20200115T213000
DTSTAMP:20260420T094701
CREATED:20191114T113230Z
LAST-MODIFIED:20191114T155652Z
UID:5414-1579115700-1579123800@www.esu.org
SUMMARY:Bristol branch: The Rise of China as a challenge to liberal teleology
DESCRIPTION:The Rise of China as a challenge to liberal teleology: can China be both rich and communist? \nSpeaker Professor Yongjin Zhang\, University of Bristol
URL:https://www.esu.org/event/bristol-branch-the-rise-of-china-as-a-challenge-to-liberal-teleology/
LOCATION:The Apostle Room\, Clifton Catholic Cathedral\, Bristol\, Clifton Catholic Cathedral\, Bristol\, BS8 3BX\, United Kingdom
CATEGORIES:ESU Social
ORGANIZER;CN="Nigel Currie":MAILTO:nigelcurrie29@gmail.com
END:VEVENT
BEGIN:VEVENT
DTSTART;TZID=Europe/London:20191120T191500
DTEND;TZID=Europe/London:20191120T213000
DTSTAMP:20260420T094701
CREATED:20191114T112125Z
LAST-MODIFIED:20191114T151645Z
UID:5411-1574277300-1574285400@www.esu.org
SUMMARY:Bristol branch: The History of the Victoria Cross
DESCRIPTION:The History of the Victoria Cross – Harold Ackroyd and other VC heroes \nSpeaker Christopher Ackroyd
URL:https://www.esu.org/event/bristol-branch-the-history-of-the-victoria-cross/
LOCATION:The Apostle Room\, Clifton Catholic Cathedral\, Bristol\, Clifton Catholic Cathedral\, Bristol\, BS8 3BX\, United Kingdom
CATEGORIES:ESU Social
ORGANIZER;CN="Nigel Currie":MAILTO:nigelcurrie29@gmail.com
END:VEVENT
END:VCALENDAR