BEGIN:VCALENDAR
VERSION:2.0
PRODID:-//ESU - ECPv6.15.16//NONSGML v1.0//EN
CALSCALE:GREGORIAN
METHOD:PUBLISH
X-WR-CALNAME:ESU
X-ORIGINAL-URL:https://www.esu.org
X-WR-CALDESC:Events for ESU
REFRESH-INTERVAL;VALUE=DURATION:PT1H
X-Robots-Tag:noindex
X-PUBLISHED-TTL:PT1H
BEGIN:VTIMEZONE
TZID:Europe/London
BEGIN:DAYLIGHT
TZOFFSETFROM:+0000
TZOFFSETTO:+0100
TZNAME:BST
DTSTART:20180325T010000
END:DAYLIGHT
BEGIN:STANDARD
TZOFFSETFROM:+0100
TZOFFSETTO:+0000
TZNAME:GMT
DTSTART:20181028T010000
END:STANDARD
BEGIN:DAYLIGHT
TZOFFSETFROM:+0000
TZOFFSETTO:+0100
TZNAME:BST
DTSTART:20190331T010000
END:DAYLIGHT
BEGIN:STANDARD
TZOFFSETFROM:+0100
TZOFFSETTO:+0000
TZNAME:GMT
DTSTART:20191027T010000
END:STANDARD
BEGIN:DAYLIGHT
TZOFFSETFROM:+0000
TZOFFSETTO:+0100
TZNAME:BST
DTSTART:20200329T010000
END:DAYLIGHT
BEGIN:STANDARD
TZOFFSETFROM:+0100
TZOFFSETTO:+0000
TZNAME:GMT
DTSTART:20201025T010000
END:STANDARD
END:VTIMEZONE
BEGIN:VEVENT
DTSTART;TZID=Europe/London:20191204T120000
DTEND;TZID=Europe/London:20191204T143000
DTSTAMP:20260421T013058
CREATED:20191126T102956Z
LAST-MODIFIED:20191126T102956Z
UID:5427-1575460800-1575469800@www.esu.org
SUMMARY:Christmas Event at Royal Victoria Hotel
DESCRIPTION:Christmas Buffet Meal.\nWe shall be joined by Special Guest\, Josephine Stanley (Librarian) from Bexhill High Academy who will update us on the latest events. She will be accompanied by two pupils as before. \nPlease let me know by Wednesday 27 November if you would like to attend.
URL:https://www.esu.org/event/christmas-event-at-royal-victoria-hotel/
LOCATION:The Royal Victoria Hotel\, St. Leonards on Sea\, Marina\, St. Leonards on Sea\, East Sussex\, TN38 OBD\, United Kingdom
ORGANIZER;CN="Michael Plumbe":MAILTO:m.plumbe@btinternet.com
END:VEVENT
END:VCALENDAR