BEGIN:VCALENDAR
VERSION:2.0
PRODID:-//ESU - ECPv6.15.16//NONSGML v1.0//EN
CALSCALE:GREGORIAN
METHOD:PUBLISH
X-ORIGINAL-URL:https://www.esu.org
X-WR-CALDESC:Events for ESU
REFRESH-INTERVAL;VALUE=DURATION:PT1H
X-Robots-Tag:noindex
X-PUBLISHED-TTL:PT1H
BEGIN:VTIMEZONE
TZID:Europe/London
BEGIN:DAYLIGHT
TZOFFSETFROM:+0000
TZOFFSETTO:+0100
TZNAME:BST
DTSTART:20180325T010000
END:DAYLIGHT
BEGIN:STANDARD
TZOFFSETFROM:+0100
TZOFFSETTO:+0000
TZNAME:GMT
DTSTART:20181028T010000
END:STANDARD
BEGIN:DAYLIGHT
TZOFFSETFROM:+0000
TZOFFSETTO:+0100
TZNAME:BST
DTSTART:20190331T010000
END:DAYLIGHT
BEGIN:STANDARD
TZOFFSETFROM:+0100
TZOFFSETTO:+0000
TZNAME:GMT
DTSTART:20191027T010000
END:STANDARD
BEGIN:DAYLIGHT
TZOFFSETFROM:+0000
TZOFFSETTO:+0100
TZNAME:BST
DTSTART:20200329T010000
END:DAYLIGHT
BEGIN:STANDARD
TZOFFSETFROM:+0100
TZOFFSETTO:+0000
TZNAME:GMT
DTSTART:20201025T010000
END:STANDARD
BEGIN:DAYLIGHT
TZOFFSETFROM:+0000
TZOFFSETTO:+0100
TZNAME:BST
DTSTART:20210328T010000
END:DAYLIGHT
BEGIN:STANDARD
TZOFFSETFROM:+0100
TZOFFSETTO:+0000
TZNAME:GMT
DTSTART:20211031T010000
END:STANDARD
END:VTIMEZONE
BEGIN:VEVENT
DTSTART;TZID=Europe/London:20200331T183000
DTEND;TZID=Europe/London:20200331T200000
DTSTAMP:20260420T174454
CREATED:20200110T202957Z
LAST-MODIFIED:20200303T134746Z
UID:5531-1585679400-1585684800@www.esu.org
SUMMARY:London Region: Book talk 'Churchill’s Abandoned Prisoners' by author Rupert Wieloch
DESCRIPTION:The English-Speaking Union London branch invites you to a Talk by Rupert Wieloch on his latest book\, Churchill’s Abandoned Prisoners. \nDrinks will be served from 6.30pm\, the talk will start at 7.00pm sharp \nOne hundred years ago a group of fifteen British soldiers serving with the British Mission to Siberia were captured by the Red Army on Russian Christmas Eve (6th January). They were held in a lice-infested room at Krasnoyarsk for three months\, whilst Prime Minister Lloyd George’s representative signed a prisoner exchange treaty with Lenin’s envoy in Copenhagen. One of the prisoners was a young Captain Brian Horrocks (played by Edward Fox in the film A Bridge Too Far)\, who succumbed to epidemic typhus\, but was saved by his best friend who nursed him through the illness. In March\, the prisoners were escorted to Irkutsk where a British train arrived to pick them up\, but the Bolshevik authorities only allowed the women and children to leave and sent the sespondent soldiers 3\,500 miles to hateful prisons in Moscow. \nIn his talk at the English-Speaking Union\, Rupert Wieloch will describe how the soldiers maintained moral and coped with their fearsome ordeal and explain what the War Secretary\, Winston Churchill\, did to secure their protracted release. Rupert was educated at Winston Churchill’s alma mater and completed a Fellowship in International Relations at Pembroke College\, Cambridge during a 35 year career in the British Army. His extensive research includes a treasure-trove of unpublished documents and archives from Philadelphia\, London\, St Petersburg and Oxford. \nAfter the talk Rupert available to sign copies of his latest book\, which will be on sale. \nBookings can be made through Eventbrite: https://esuchurchilltalk.eventbrite.co.uk or by sending a cheque to Events\, English-Speaking Union\, 37 Charles Street\, London W1J 5ED.
URL:https://www.esu.org/event/london-region-book-talk-churchills-abandoned-prisoners-by-author-rupert-wieloch/
LOCATION:The English-Speaking Union\, 37 Charles Street\, London\, England\, W1J 5ED\, United Kingdom
CATEGORIES:ESU Social
ATTACH;FMTTYPE=image/jpeg:https://www.esu.org/wp-content/uploads/2020/01/wieloch.jpg
ORGANIZER;CN="Jane Reid":MAILTO:janereid440@gmail.com
END:VEVENT
BEGIN:VEVENT
DTSTART;TZID=Europe/London:20200204T100000
DTEND;TZID=Europe/London:20200204T120000
DTSTAMP:20260420T174454
CREATED:20191204T112612Z
LAST-MODIFIED:20200115T102811Z
UID:5463-1580810400-1580817600@www.esu.org
SUMMARY:London Branch: Visit to the Garrick Club
DESCRIPTION:Situated in the heart of the West End and Theatreland\, the Garrick Club was founded in 1831 as a private members’ club by a group of literary gentlemen under the patronage of the King’s brother\, the egalitarian Duke of Sussex. They announced that the club would be a place where ‘actors and men of refinement and education might meet on equal terms.’ \nThe first members were a sophisticated and cosmopolitan group\, which included famous Dickens and Thackeray. Today the club has around 1\,300 members including many of the most distinguished actors and men of letters in England. \nThe club possesses an important theatrical library that includes many manuscripts and documents\, a valuable collection of play-texts and tens of thousands of playbills and theatre programmes. However\, the greatest treasure of the Garrick Club is the collection of theatrical paintings and drawings\, much the largest and most comprehensive in existence.
URL:https://www.esu.org/event/london-branch-visit-to-the-garrick-club/
LOCATION:The Garrick Club\, 15 Garrick Street\, London\, WC2E 9AY
CATEGORIES:ESU Social
ATTACH;FMTTYPE=image/jpeg:https://www.esu.org/wp-content/uploads/2019/12/Garrick-18.jpg
ORGANIZER;CN="Jane Reid":MAILTO:janereid440@gmail.com
END:VEVENT
BEGIN:VEVENT
DTSTART;TZID=Europe/London:20191119T183000
DTEND;TZID=Europe/London:20191119T200000
DTSTAMP:20260420T174454
CREATED:20190809T114013Z
LAST-MODIFIED:20191014T193859Z
UID:5204-1574188200-1574193600@www.esu.org
SUMMARY:London Branch: Alexander Ullman Piano Concert at Dartmouth House
DESCRIPTION:The English-Speaking Union London Region Branch welcomes you to an intimate evening piano recital with the winner of the 2017 International Franz Liszt Piano Competition\, Alexander Ullman. \nProgramme \nLiszt – Harmonies poétiques et religieuses Nos. III\, VII and X \nTchaikovsky/Pletnev – Nutcracker Suite \nStravinsky/Agosti – Firebird Suite \nDrinks from 6.30pm \nRecital begins at 7pm sharp\, the recital will end at approximately 8.30pm. \nAll proceeds from this performance will support the ESU’s Educational Programmes. \nPlease reserve your ticket here: https://esupianoreception.eventbrite.co.uk or send a cheque to English Speaking Union\, Dartmouth House\, London W1J 5ED. \n 
URL:https://www.esu.org/event/london-branch-alexander-ullman-piano-concert-at-dartmouth-house/
LOCATION:The English-Speaking Union\, 37 Charles Street\, London\, England\, W1J 5ED\, United Kingdom
CATEGORIES:ESU Social
ATTACH;FMTTYPE=image/jpeg:https://www.esu.org/wp-content/uploads/2019/08/Ullman.jpg
ORGANIZER;CN="Jane Reid":MAILTO:janereid440@gmail.com
END:VEVENT
BEGIN:VEVENT
DTSTART;TZID=Europe/London:20190404T183000
DTEND;TZID=Europe/London:20190404T190000
DTSTAMP:20260420T174454
CREATED:20190128T102430Z
LAST-MODIFIED:20190611T143622Z
UID:4416-1554402600-1554404400@www.esu.org
SUMMARY:A religious history of London by Philppa Bernard
DESCRIPTION:Philippa Bernard has lived most of her life in London. For many years\, she and her husband had an antiquarian bookshop in Chelsea\, a mecca for book collectors across the world. She has written several books on religious themes and a biography of the poet Kathleen Raine\, and lectures on historical subjects for groups such as the National Trust and U3A. She is a member of the Society of Authors. \n\nTime: Wine and canapés 6.30pm\, talk at 7pm\nCost: £20 per member £25 per guest\nFurther information: Jane Reid – janereid440@gmail.com
URL:https://www.esu.org/event/a-religious-history-of-london-by-philppa-bernard/
CATEGORIES:ESU Education
ORGANIZER;CN="Jane Reid":MAILTO:janereid440@gmail.com
END:VEVENT
END:VCALENDAR