BEGIN:VCALENDAR
VERSION:2.0
PRODID:-//ESU - ECPv6.15.16//NONSGML v1.0//EN
CALSCALE:GREGORIAN
METHOD:PUBLISH
X-ORIGINAL-URL:https://www.esu.org
X-WR-CALDESC:Events for ESU
REFRESH-INTERVAL;VALUE=DURATION:PT1H
X-Robots-Tag:noindex
X-PUBLISHED-TTL:PT1H
BEGIN:VTIMEZONE
TZID:Europe/London
BEGIN:DAYLIGHT
TZOFFSETFROM:+0000
TZOFFSETTO:+0100
TZNAME:BST
DTSTART:20180325T010000
END:DAYLIGHT
BEGIN:STANDARD
TZOFFSETFROM:+0100
TZOFFSETTO:+0000
TZNAME:GMT
DTSTART:20181028T010000
END:STANDARD
BEGIN:DAYLIGHT
TZOFFSETFROM:+0000
TZOFFSETTO:+0100
TZNAME:BST
DTSTART:20190331T010000
END:DAYLIGHT
BEGIN:STANDARD
TZOFFSETFROM:+0100
TZOFFSETTO:+0000
TZNAME:GMT
DTSTART:20191027T010000
END:STANDARD
BEGIN:DAYLIGHT
TZOFFSETFROM:+0000
TZOFFSETTO:+0100
TZNAME:BST
DTSTART:20200329T010000
END:DAYLIGHT
BEGIN:STANDARD
TZOFFSETFROM:+0100
TZOFFSETTO:+0000
TZNAME:GMT
DTSTART:20201025T010000
END:STANDARD
BEGIN:DAYLIGHT
TZOFFSETFROM:+0000
TZOFFSETTO:+0100
TZNAME:BST
DTSTART:20210328T010000
END:DAYLIGHT
BEGIN:STANDARD
TZOFFSETFROM:+0100
TZOFFSETTO:+0000
TZNAME:GMT
DTSTART:20211031T010000
END:STANDARD
END:VTIMEZONE
BEGIN:VEVENT
DTSTART;TZID=Europe/London:20200206T101500
DTEND;TZID=Europe/London:20200206T163000
DTSTAMP:20260421T030104
CREATED:20200108T163046Z
LAST-MODIFIED:20200108T163143Z
UID:5518-1580984100-1581006600@www.esu.org
SUMMARY:Epping Forest Branch: Bob Johnson wildlife photography in the Arctic
DESCRIPTION:Bob Johnson is well known to us for his wonderful wildlife photography taken both locally and in Africa.  This time\, he is going in completely the opposite direction and will talk on his recent visit to the Arctic illustrated by his spectacular photographs of the region and its wildlife.  Indeed\, he is so enthusiastic about the area that he will come again to our March meeting to complete the story of his Arctic experiences.
URL:https://www.esu.org/event/epping-forest-branch-bob-johnson-wildlife-photography-in-the-arctic/
LOCATION:The Murray Hall\, Loughton\, Essex\, 106 Borders Lane\, Loughton\, Essex\, IG10 3SB\, United Kingdom
CATEGORIES:ESU Social
ATTACH;FMTTYPE=image/jpeg:https://www.esu.org/wp-content/uploads/2019/08/arctic.jpg
END:VEVENT
BEGIN:VEVENT
DTSTART;TZID=Europe/London:20191204T101500
DTEND;TZID=Europe/London:20191204T150000
DTSTAMP:20260421T030104
CREATED:20191126T101259Z
LAST-MODIFIED:20191128T150552Z
UID:5426-1575454500-1575471600@www.esu.org
SUMMARY:Epping Branch: OUR TRAVELS – A LOOK AT SOME PAST HOLIDAYS AND EVENTS
DESCRIPTION:As this is our Christmas’ meeting we have decided to dispense with an outside speaker and make it a more social event with time for chat over refreshments.   We will be showing pictures of some of the holidays and visits which we have had during the Chairmanship of Tony Meagher and we hope that those who enjoyed the events will be happy to reminisce\, whilst those who weren’t able to support the visits programme will be inspired to do so in the future.
URL:https://www.esu.org/event/epping-branch-our-travels-a-look-at-some-past-holidays-and-events/
LOCATION:The Murray Hall\, Loughton\, Essex\, 106 Borders Lane\, Loughton\, Essex\, IG10 3SB\, United Kingdom
CATEGORIES:ESU Social
ATTACH;FMTTYPE=image/jpeg:https://www.esu.org/wp-content/uploads/2019/11/Dumfries-House-4.jpg
END:VEVENT
BEGIN:VEVENT
DTSTART;TZID=Europe/London:20191107T101500
DTEND;TZID=Europe/London:20191107T120000
DTSTAMP:20260421T030104
CREATED:20190902T102353Z
LAST-MODIFIED:20190902T110429Z
UID:5285-1573121700-1573128000@www.esu.org
SUMMARY:Epping Branch: A talk by Camilla Nicol on the Antarctic Heritage Trust
DESCRIPTION:The Trust exists to protect and conserve British Antarctic Heritage which includes six historic buildings and associated structures along with tens of thousands of artefacts which need great care and protection to ensure they survive in the hostile Antarctic climate.   The most well-known of these sites is Port Lockroy\, where the Trust mans a British Post Office in the Summer Season and provides tourists\, who are fortunate enough to land\, with an insight into the historic working conditions of the original explorers.   Camilla is Chief Executive of the Trust and has\, herself\, recently visited Port Lockroy so she is ideally placed to explain the work of the Trust and its Conservation teams.
URL:https://www.esu.org/event/epping-branch-a-talk-by-camilla-nicol-on-the-antarctic-heritage-trust/
LOCATION:The Murray Hall\, Loughton\, Essex\, 106 Borders Lane\, Loughton\, Essex\, IG10 3SB\, United Kingdom
CATEGORIES:ESU Social
ATTACH;FMTTYPE=image/jpeg:https://www.esu.org/wp-content/uploads/2019/08/arctic.jpg
END:VEVENT
BEGIN:VEVENT
DTSTART;VALUE=DATE:20191103
DTEND;VALUE=DATE:20191104
DTSTAMP:20260421T030104
CREATED:20190902T103532Z
LAST-MODIFIED:20190902T110134Z
UID:5286-1572739200-1572825599@www.esu.org
SUMMARY:Epping Branch: Concert at the Royal Festival Hall
DESCRIPTION:Tickets have been reserved for this matinee performance by the London Philharmonia Orchestra. The Conductor is Santtu Rouvali\, with Nickolai Lugansky on the piano. The concert begins with Stravinsky’s “Fireworks” and is followed by Rachmaninov’s Piano Concerto No. 1 and then excerpts from Tchaikovsky’s “Swan Lake”.
URL:https://www.esu.org/event/epping-branch-concert-at-the-royal-festival-hall/
LOCATION:Royal Festival Hall\, Southbank Centre\, London\, SE1 8XX\, United Kingdom
CATEGORIES:ESU Social
ATTACH;FMTTYPE=image/jpeg:https://www.esu.org/wp-content/uploads/2019/08/music.jpg
END:VEVENT
BEGIN:VEVENT
DTSTART;TZID=Europe/London:20191003T101500
DTEND;TZID=Europe/London:20191003T120000
DTSTAMP:20260421T030104
CREATED:20190828T105648Z
LAST-MODIFIED:20190828T105739Z
UID:5240-1570097700-1570104000@www.esu.org
SUMMARY:Epping Branch: A Talk by Nick Dobson entitled “An Underground Guide to Historical London”
DESCRIPTION:Nick Dobson is new to us as a speaker but he has many strings to his bow – he will take us on a virtual tour of London by tube\, stopping off to look at places of historical interest on the route. \nRefreshments are available from 10.15am and the talk will start at 10.45am.
URL:https://www.esu.org/event/epping-branch-a-talk-by-nick-dobson-entitled-an-underground-guide-to-historical-london/
LOCATION:The Murray Hall\, Loughton\, Essex\, 106 Borders Lane\, Loughton\, Essex\, IG10 3SB\, United Kingdom
CATEGORIES:ESU Social
ATTACH;FMTTYPE=image/jpeg:https://www.esu.org/wp-content/uploads/2019/08/london.jpg
END:VEVENT
BEGIN:VEVENT
DTSTART;TZID=Europe/London:20190905T101500
DTEND;TZID=Europe/London:20190905T120000
DTSTAMP:20260421T030104
CREATED:20190828T105329Z
LAST-MODIFIED:20190828T105329Z
UID:5237-1567678500-1567684800@www.esu.org
SUMMARY:Epping Forest Branch: A Talk by Sue Clack entitled “The Silk Road by Bus”
DESCRIPTION:Sue Clack is the local representative for ‘Help for Heroes’ and\, as such\, she has spoken to us before. When not helping heroes Sue tends to go in for challenging travel and this time she will tell us about her experiences travelling the Central Asian section of the ancient Silk Road by Bus whilst\, for the most part\, camping and self-catering. \nRefreshments are available from 10.15am and the talk will start at 10.45am.
URL:https://www.esu.org/event/epping-forest-branch-a-talk-by-sue-clack-entitled-the-silk-road-by-bus/
LOCATION:The Murray Hall\, Loughton\, Essex\, 106 Borders Lane\, Loughton\, Essex\, IG10 3SB\, United Kingdom
CATEGORIES:ESU Social
ATTACH;FMTTYPE=image/jpeg:https://www.esu.org/wp-content/uploads/2019/08/silk-road.jpg
END:VEVENT
END:VCALENDAR