BEGIN:VCALENDAR
VERSION:2.0
PRODID:-//ESU - ECPv6.15.16//NONSGML v1.0//EN
CALSCALE:GREGORIAN
METHOD:PUBLISH
X-WR-CALNAME:ESU
X-ORIGINAL-URL:https://www.esu.org
X-WR-CALDESC:Events for ESU
REFRESH-INTERVAL;VALUE=DURATION:PT1H
X-Robots-Tag:noindex
X-PUBLISHED-TTL:PT1H
BEGIN:VTIMEZONE
TZID:Europe/London
BEGIN:DAYLIGHT
TZOFFSETFROM:+0000
TZOFFSETTO:+0100
TZNAME:BST
DTSTART:20180325T010000
END:DAYLIGHT
BEGIN:STANDARD
TZOFFSETFROM:+0100
TZOFFSETTO:+0000
TZNAME:GMT
DTSTART:20181028T010000
END:STANDARD
BEGIN:DAYLIGHT
TZOFFSETFROM:+0000
TZOFFSETTO:+0100
TZNAME:BST
DTSTART:20190331T010000
END:DAYLIGHT
BEGIN:STANDARD
TZOFFSETFROM:+0100
TZOFFSETTO:+0000
TZNAME:GMT
DTSTART:20191027T010000
END:STANDARD
BEGIN:DAYLIGHT
TZOFFSETFROM:+0000
TZOFFSETTO:+0100
TZNAME:BST
DTSTART:20200329T010000
END:DAYLIGHT
BEGIN:STANDARD
TZOFFSETFROM:+0100
TZOFFSETTO:+0000
TZNAME:GMT
DTSTART:20201025T010000
END:STANDARD
END:VTIMEZONE
BEGIN:VEVENT
DTSTART;TZID=Europe/London:20190305T190000
DTEND;TZID=Europe/London:20190305T210000
DTSTAMP:20260421T045720
CREATED:20190123T112756Z
LAST-MODIFIED:20190611T144126Z
UID:4970-1551812400-1551819600@www.esu.org
SUMMARY:English Law – a great English export?
DESCRIPTION:A talk by Robert Bourns of TLT Solicitors. \n\nTime: 7.45pm\, refreshments available from 7.15pm\nCost: Members entrance £2; Guests and visitors £5\nVenue: The Apostle room of Clifton Catholic Cathedral\, BS8 3BX
URL:https://www.esu.org/event/english-law-a-great-english-export/
LOCATION:The Apostle Room\, Clifton Catholic Cathedral\, Bristol\, Clifton Catholic Cathedral\, Bristol\, BS8 3BX\, United Kingdom
CATEGORIES:ESU Education,ESU Oracy
END:VEVENT
BEGIN:VEVENT
DTSTART;TZID=Europe/London:20190227T123000
DTEND;TZID=Europe/London:20190227T130000
DTSTAMP:20260421T045720
CREATED:20190116T170039Z
LAST-MODIFIED:20190611T144110Z
UID:4961-1551270600-1551272400@www.esu.org
SUMMARY:The speed and glamour of Concorde
DESCRIPTION:Captain Les Evans flew the Concorde for 4 years from 1999 to 2003. In this talk\, he will share with us why the ‘magnificent aircraft’ was retired and how it captivated the world with its speed and glamour. \n\nTime: 12.30 pm for 1.00 pm lunch\, followed by the talk.\nCost: members £19; guests £22.\nVenue: The Sharnbrook Hotel\, Park Lane\, Sharnbrook\, Bedford\, MK44 1LX\nFurther information: contact Brenda Alexander on B_Beeches@btinternet.com or by telephoning 01234 881473.
URL:https://www.esu.org/event/the-speed-and-glamour-of-concorde/
LOCATION:The Sharnbrook Hotel\, Bedford\, Park Lane\, Sharnbrook\, Bedford\, MK44 1LX\, United Kingdom
CATEGORIES:ESU Education
ORGANIZER;CN="Brenda Alexander":MAILTO:B_Beeches@btinternet.com
END:VEVENT
BEGIN:VEVENT
DTSTART;TZID=Europe/London:20190217T103000
DTEND;TZID=Europe/London:20190217T123000
DTSTAMP:20260421T045720
CREATED:20190121T141321Z
LAST-MODIFIED:20190611T144042Z
UID:4966-1550399400-1550406600@www.esu.org
SUMMARY:Megan Mitchell – The Churches Conservation Trust
DESCRIPTION:The Trust looks after some 350 Churches vested in it by the Church Commissioners of the Church of England. Megan will tell us about the work of the Trust with particular reference to Churches in the South Eastern area. \n\nTime: Refreshments are available from 10.15am and the talk will start at 10.45am.\nVenue: The Murray Hall\, 106 Borders Lane\, Loughton\, Essex IG10 3SB\nCost: £4 for members and £5 for visitors (first visit free)\, including tea and coffee.\nFurther Information: Please call  020 8505 9001 or 01992 812454
URL:https://www.esu.org/event/megan-mitchell-the-churches-conservation-trust/
LOCATION:The Murray Hall\, Loughton\, Essex\, 106 Borders Lane\, Loughton\, Essex\, IG10 3SB\, United Kingdom
CATEGORIES:ESU Education
END:VEVENT
BEGIN:VEVENT
DTSTART;TZID=Europe/London:20190209T130000
DTEND;TZID=Europe/London:20190209T150000
DTSTAMP:20260421T045720
CREATED:20190123T115345Z
LAST-MODIFIED:20190611T144027Z
UID:4974-1549717200-1549724400@www.esu.org
SUMMARY:Buckinghamshire Schools Public Speaking heat
DESCRIPTION:Join us in watching the schools public speaking heat. \n\nTime: 1pm\nVenue: Wycombe Abbey School\, High Wycombe\, HP11 1PE
URL:https://www.esu.org/event/buckinghamshire-schools-public-speaking-heat/
LOCATION:Wycombe Abbey School\, High Wycombe\, High Wycombe\, Buckinghamshire\, HP11 1PE\, United Kingdom
CATEGORIES:ESU Debate Club,ESU Young People
END:VEVENT
BEGIN:VEVENT
DTSTART;TZID=Europe/London:20190206T120000
DTEND;TZID=Europe/London:20190206T140000
DTSTAMP:20260421T045720
CREATED:20190122T110730Z
LAST-MODIFIED:20190611T144007Z
UID:4967-1549454400-1549461600@www.esu.org
SUMMARY:Hastings 1066 February Valentine lunch meeting
DESCRIPTION:Please reply one week before the event. \n\nTime:  Arrival time is 12 noon for 12.30p.m\nCost: Ticket price is £15 00.\nVenue: The Royal Victoria Hotel\, Marina\, St. Leonards on Sea\, East Sussex\, TN38 OBD\n\nFurther information: please call 01424  223416
URL:https://www.esu.org/event/hastings-1066-february-valentine-lunch-meeting/
LOCATION:The Royal Victoria Hotel\, St. Leonards on Sea\, Marina\, St. Leonards on Sea\, East Sussex\, TN38 OBD\, United Kingdom
CATEGORIES:ESU Social
END:VEVENT
BEGIN:VEVENT
DTSTART;TZID=Europe/London:20190205T190000
DTEND;TZID=Europe/London:20190205T210000
DTSTAMP:20260421T045720
CREATED:20190123T112142Z
LAST-MODIFIED:20190611T143951Z
UID:4969-1549393200-1549400400@www.esu.org
SUMMARY:In his own words: Samuel Johnson – a life in writing
DESCRIPTION:A talk by Professor Philip and Pam Smallwood. \n\nTime: 7.45pm\, refreshments available from 7.15pm\nCost: Members entrance £2; Guests and visitors £5\nVenue: The Apostle room of Clifton Catholic Cathedral\, BS8 3BX
URL:https://www.esu.org/event/in-his-own-words-samuel-johnson-a-life-in-writing/
LOCATION:The Apostle Room\, Clifton Catholic Cathedral\, Bristol\, Clifton Catholic Cathedral\, Bristol\, BS8 3BX\, United Kingdom
CATEGORIES:ESU Education
END:VEVENT
BEGIN:VEVENT
DTSTART;TZID=Europe/London:20190129T123000
DTEND;TZID=Europe/London:20190129T140000
DTSTAMP:20260421T045720
CREATED:20190117T105906Z
LAST-MODIFIED:20190611T143934Z
UID:4962-1548765000-1548770400@www.esu.org
SUMMARY:Working with dragons
DESCRIPTION:Jonny Sobczyk Boddington\, ESU Governor and CEO of the Peter Jones Foundation has had a fascinating career so far. From Teach First in Tower Hamlets to co-founding charity The Brilliant Club and in 2017 he was appointed CEO of the Peter Jones Foundation. In this talk\, Jonny will share his career highlights and discuss what’s next for him. \n\nTime: 12.30 pm for 1.00 pm lunch\, followed by the talk.\nCost: members £19; guests £22.\nVenue: The Sharnbrook Hotel\, Park Lane\, Sharnbrook\, Bedford\, MK44 1LX\nFurther information: contact Brenda Alexander on B_Beeches@btinternet.com or by telephoning 01234 881473.
URL:https://www.esu.org/event/working-with-dragons/
LOCATION:England
CATEGORIES:ESU Education
ORGANIZER;CN="Brenda Alexander":MAILTO:B_Beeches@btinternet.com
END:VEVENT
BEGIN:VEVENT
DTSTART;TZID=Europe/London:20190124T180000
DTEND;TZID=Europe/London:20190124T200000
DTSTAMP:20260421T045720
CREATED:20181207T102210Z
LAST-MODIFIED:20190611T143917Z
UID:4960-1548352800-1548360000@www.esu.org
SUMMARY:Book Club - January
DESCRIPTION:The book for discussion this month is “Three Comrades” by Eric-Maria Remarque. \n\nFor further information and enquiries\, please contact the coordinator\, Kathleen Earley on earley.kathleen@gmail.com.\nEvent location: Dartmouth House\, 37 Charles Street\, London W1J 5ED
URL:https://www.esu.org/event/book-club-january/
LOCATION:England
CATEGORIES:ESU Social
ORGANIZER;CN="Kathleen Earley":MAILTO:earley.kathleen@gmail.com.
END:VEVENT
BEGIN:VEVENT
DTSTART;TZID=Europe/London:20190123T123000
DTEND;TZID=Europe/London:20190123T133000
DTSTAMP:20260421T045720
CREATED:20190117T124829Z
LAST-MODIFIED:20190611T143902Z
UID:4963-1548246600-1548250200@www.esu.org
SUMMARY:Hong Kong before and after the transfer of sovereignty
DESCRIPTION:In 1981\, Brian Renwick moved to Hong Kong where he held a number of senior management roles and became involved with the wider community and fascinated by the history of the dependency since it was ceded to Britain by the Qing dynasty in 1842. Brian will be speaking about his experiences\, hopes and expectations for the future. \n\nTime: 12:30pm\nCost: Members £24.00 and guests £26.00\nVenue: Exeter Golf & Country Club\nFurther information: Tim Pink on sheila.pink@btinternet.co.uk
URL:https://www.esu.org/event/hong-kong-before-and-after-the-transfer-of-sovereignty/
LOCATION:Exeter Golf & Country Club\, Topsham Road\, Exeter\, EX277AE\, United Kingdom
CATEGORIES:ESU Education
ORGANIZER;CN="Tim Pink":MAILTO:sheila.pink@btinternet.co.uk
END:VEVENT
END:VCALENDAR