BEGIN:VCALENDAR
VERSION:2.0
PRODID:-//ESU - ECPv6.15.16//NONSGML v1.0//EN
CALSCALE:GREGORIAN
METHOD:PUBLISH
X-WR-CALNAME:ESU
X-ORIGINAL-URL:https://www.esu.org
X-WR-CALDESC:Events for ESU
REFRESH-INTERVAL;VALUE=DURATION:PT1H
X-Robots-Tag:noindex
X-PUBLISHED-TTL:PT1H
BEGIN:VTIMEZONE
TZID:Europe/London
BEGIN:DAYLIGHT
TZOFFSETFROM:+0000
TZOFFSETTO:+0100
TZNAME:BST
DTSTART:20230326T010000
END:DAYLIGHT
BEGIN:STANDARD
TZOFFSETFROM:+0100
TZOFFSETTO:+0000
TZNAME:GMT
DTSTART:20231029T010000
END:STANDARD
BEGIN:DAYLIGHT
TZOFFSETFROM:+0000
TZOFFSETTO:+0100
TZNAME:BST
DTSTART:20240331T010000
END:DAYLIGHT
BEGIN:STANDARD
TZOFFSETFROM:+0100
TZOFFSETTO:+0000
TZNAME:GMT
DTSTART:20241027T010000
END:STANDARD
BEGIN:DAYLIGHT
TZOFFSETFROM:+0000
TZOFFSETTO:+0100
TZNAME:BST
DTSTART:20250330T010000
END:DAYLIGHT
BEGIN:STANDARD
TZOFFSETFROM:+0100
TZOFFSETTO:+0000
TZNAME:GMT
DTSTART:20251026T010000
END:STANDARD
END:VTIMEZONE
BEGIN:VEVENT
DTSTART;TZID=Europe/London:20241209T110000
DTEND;TZID=Europe/London:20241209T140000
DTSTAMP:20260421T110232
CREATED:20240603T115030Z
LAST-MODIFIED:20241107T105657Z
UID:10184-1733742000-1733752800@www.esu.org
SUMMARY:Salisbury Branch: Things are not all white at the North Pole – Pen Hadow
DESCRIPTION:Discover how Pen Hadow’s early connection to the Arctic sparked a lifelong dedication to the region’s sea ice—as an adventurer\, professional guide\, research leader\, pioneering explorer\, and ocean conservationist. The North Pole’s ocean environment is changing faster than any other\, putting immense stress on its wildlife. With 40% of summer habitat already lost and the rest projected to disappear within the next decade\, the Arctic’s future is uncertain. But Pen has an ambitious plan to address these urgent challenges… \n\n\n\n\nStart time:             11.00 am  (Coffee from 10.30 am) \nEnd time:              12.30 pm  (Lunch from 12.30 pm to 2.00 pm) \n  \nIf you would like to see the menu\, please email ESUSalisbury-EventsSec@esu.org.
URL:https://www.esu.org/event/salisbury-branch-lecture-and-lunch-the-thailand-cave-rescue-2018-dr-rob-harper/
LOCATION:Mercure White Hart Hotel\, 1 St John’s Street\, Salisbury\, SP1 2SD\, United Kingdom
CATEGORIES:ESU Education,ESU Fundraising,ESU Social
ATTACH;FMTTYPE=image/png:https://www.esu.org/wp-content/uploads/2022/05/Primary-Logo-no-strapline.png
ORGANIZER;CN="Salisbury and Wiltshire branch":MAILTO:esusalisbury-eventssec@esu.org
END:VEVENT
END:VCALENDAR